BEGIN:VCALENDAR
VERSION:2.0
CALSCALE:GREGORIAN
PRODID:adamgibbons/ics
METHOD:PUBLISH
X-PUBLISHED-TTL:PT1H
BEGIN:VEVENT
UID:133@agenda.subterrania.es
SUMMARY:The Haze
DTSTAMP:20260422T144234Z
DTSTART:20260423T170000Z
DTEND:20260423T200000Z
URL:https://agenda.subterrania.es/event/the-haze
LOCATION:Universidad de Cantabria - Casa del Estudiante. Torre A. Planta -3
STATUS:CONFIRMED
CATEGORIES:conciertosCantabria,escena local,rock,santander
END:VEVENT
BEGIN:VEVENT
UID:150@agenda.subterrania.es
SUMMARY:Lucas Casta y Tyler Jackson
DTSTAMP:20260422T144234Z
DTSTART:20260430T170000Z
URL:https://agenda.subterrania.es/event/lucas-casta-y-tyler-jackson
LOCATION:Universidad de Cantabria - Casa del Estudiante. Torre A. Planta -3
STATUS:CONFIRMED
CATEGORIES:conciertos,escena local,santander
END:VEVENT
BEGIN:VEVENT
UID:151@agenda.subterrania.es
SUMMARY:Los Rezagados
DTSTAMP:20260422T144234Z
DTSTART:20260507T170000Z
URL:https://agenda.subterrania.es/event/los-rezagados
LOCATION:Universidad de Cantabria - Casa del Estudiante. Torre A. Planta -3
STATUS:CONFIRMED
CATEGORIES:conciertos,escena local,santander
END:VEVENT
BEGIN:VEVENT
UID:146@agenda.subterrania.es
SUMMARY:Medussa + Agujero + Bañaperros: XV Aniversario Producciones Tudanca
	s
DTSTAMP:20260422T144234Z
DTSTART:20260508T183000Z
URL:https://agenda.subterrania.es/event/medussa-agujero-banaperros-xv-anive
	rsario-producciones-tudancas
LOCATION:Rock Beer The New - C. Peñas Redondas 15\, Santander
STATUS:CONFIRMED
CATEGORIES:conciertos,conciertosCantabria,escena local,indie,post-metal,pun
	k,rock,santander
END:VEVENT
BEGIN:VEVENT
UID:147@agenda.subterrania.es
SUMMARY:Caballo Muerte + doctrina + Ídolos del Extrarradio: XV Aniversario 
	Producciones Tudancas
DTSTAMP:20260422T144234Z
DTSTART:20260509T183000Z
URL:https://agenda.subterrania.es/event/caballo-muerte-doctrina-idolos-del-
	extrarradio-xv-aniversario-producciones-tudancas
LOCATION:Rock Beer The New - C. Peñas Redondas 15\, Santander
STATUS:CONFIRMED
CATEGORIES:conciertos,conciertosCantabria,escena local,indie,post-punk,punk
	,rock,santander
END:VEVENT
BEGIN:VEVENT
UID:178@agenda.subterrania.es
SUMMARY:And The Sunset Burns + Snaizer
DTSTAMP:20260422T144234Z
DTSTART:20260510T180000Z
URL:https://agenda.subterrania.es/event/and-the-sunset-burns-snaizer
LOCATION:Rock Beer The New - C. Peñas Redondas 15\, Santander
STATUS:CONFIRMED
CATEGORIES:conciertos,conciertosCantabria,escena local,post-punk,rock,santa
	nder
END:VEVENT
BEGIN:VEVENT
UID:155@agenda.subterrania.es
SUMMARY:Flaca & The Beat: Santander Sonoro 2026
DTSTAMP:20260422T144234Z
DTSTART:20260529T170000Z
URL:https://agenda.subterrania.es/event/flaca-and-the-beat
LOCATION:Centro Cívico Juan Carlos Calderón - C. Río de la Pila\, 27\, 3900
	3 Santander
STATUS:CONFIRMED
CATEGORIES:conciertos,escena local,funk,jazz,santander
END:VEVENT
BEGIN:VEVENT
UID:175@agenda.subterrania.es
SUMMARY:Vaca Lunar
DTSTAMP:20260422T144234Z
DTSTART:20260529T190000Z
URL:https://agenda.subterrania.es/event/vaca-lunar
LOCATION:New Moon - C. San José\, 14\, 39300 Torrelavega
STATUS:CONFIRMED
CATEGORIES:conciertos,conciertosCantabria,escena local,indie,pop,torrelaveg
	a
END:VEVENT
BEGIN:VEVENT
UID:162@agenda.subterrania.es
SUMMARY:Motherless + Deathshot: Ciclo Ruido Emergente
DTSTAMP:20260422T144234Z
DTSTART:20260611T180000Z
URL:https://agenda.subterrania.es/event/motherless-deathshot-ciclo-ruido-em
	ergente
LOCATION:Espacio Joven - C/ Cuesta del Hospital\, 10. 39008 Santander
STATUS:CONFIRMED
CATEGORIES:Hardcore,conciertos,escena local,hard-rock,punk,santander
END:VEVENT
BEGIN:VEVENT
UID:163@agenda.subterrania.es
SUMMARY:Snaizer + Missing: ciclo Ruido emergente
DTSTAMP:20260422T144234Z
DTSTART:20260612T180000Z
URL:https://agenda.subterrania.es/event/snaizer-missing-ciclo-ruido-emergen
	te
LOCATION:Espacio Joven - C/ Cuesta del Hospital\, 10. 39008 Santander
STATUS:CONFIRMED
CATEGORIES:conciertos,escena local,indie,metal,rock,santander
END:VEVENT
BEGIN:VEVENT
UID:156@agenda.subterrania.es
SUMMARY:Smooth Beans: Santander Sonoro 2026
DTSTAMP:20260422T144234Z
DTSTART:20260626T170000Z
URL:https://agenda.subterrania.es/event/smooth-beans
LOCATION:Centro Cívico Tabacalera - C/ Antonio López\, 36 39009 Santander
STATUS:CONFIRMED
CATEGORIES:conciertos,escena local,reggae,santander,ska
END:VEVENT
BEGIN:VEVENT
UID:157@agenda.subterrania.es
SUMMARY:Pablo Solo: Santander Sonoro 2026
DTSTAMP:20260422T144234Z
DTSTART:20260821T170000Z
URL:https://agenda.subterrania.es/event/pablo-solo-santander-sonoro-2026
LOCATION:Centro Cívico Tabacalera - C/ Antonio López\, 36 39009 Santander
STATUS:CONFIRMED
CATEGORIES:conciertos,escena local,pop,santander
END:VEVENT
BEGIN:VEVENT
UID:158@agenda.subterrania.es
SUMMARY:Istmo: Santander Sonoro 2026
DTSTAMP:20260422T144234Z
DTSTART:20260904T170000Z
URL:https://agenda.subterrania.es/event/istmo-santander-sonoro-2026
LOCATION:Centro Cívico Juan Carlos Calderón - C. Río de la Pila\, 27\, 3900
	3 Santander
STATUS:CONFIRMED
CATEGORIES:conciertos,escena local,santander
END:VEVENT
BEGIN:VEVENT
UID:159@agenda.subterrania.es
SUMMARY:Las Yhadys: Santander Sonoro 2026
DTSTAMP:20260422T144234Z
DTSTART:20261204T180000Z
URL:https://agenda.subterrania.es/event/las-yhadys-santander-sonoro-2026
LOCATION:Centro Cívico Juan de Santander - C/ el Recial\, 25\, 39012 Cueto
STATUS:CONFIRMED
CATEGORIES:conciertos,escena local,indie,pop,santander
END:VEVENT
BEGIN:VEVENT
UID:170@agenda.subterrania.es
SUMMARY:Nano y Los Clientes de la Noche
DTSTAMP:20260422T144234Z
DTSTART:20261227T183000Z
URL:https://agenda.subterrania.es/event/nano-y-los-clientes-de-la-noche
LOCATION:Escenario Santander - Avda. De la Constitución 39\, Santander
STATUS:CONFIRMED
CATEGORIES:conciertos,conciertosCantabria,escena local,pop,santander
END:VEVENT
END:VCALENDAR
